BEGIN:VCALENDAR
VERSION:2.0
PRODID:-//hacksw/handcal//NONSGML v1.0//EN
BEGIN:VEVENT
SUMMARY:tournoi Inher Weel
UID:02ca99db-ca4e-4fb5-991b-946a352ead1b
DTSTART:20260401T120000Z
DTEND:20260401T160000Z
LOCATION:Localisation   
CATEGORIES:Sportif
STATUS:
URL;VALUE=URI:https://www.bridgeclublaval.com/evenements/2026/04/01/tournoi-inher-weel-2431582
END:VEVENT
END:VCALENDAR
